BEGIN:VCALENDAR
VERSION:2.0
PRODID:-//Netherlee and Stamperland Church - ECPv6.15.20//NONSGML v1.0//EN
CALSCALE:GREGORIAN
METHOD:PUBLISH
X-WR-CALNAME:Netherlee and Stamperland Church
X-ORIGINAL-URL:https://nandschurch.org.uk
X-WR-CALDESC:Events for Netherlee and Stamperland Church
REFRESH-INTERVAL;VALUE=DURATION:PT1H
X-Robots-Tag:noindex
X-PUBLISHED-TTL:PT1H
BEGIN:VTIMEZONE
TZID:Europe/London
BEGIN:DAYLIGHT
TZOFFSETFROM:+0000
TZOFFSETTO:+0100
TZNAME:BST
DTSTART:20250330T010000
END:DAYLIGHT
BEGIN:STANDARD
TZOFFSETFROM:+0100
TZOFFSETTO:+0000
TZNAME:GMT
DTSTART:20251026T010000
END:STANDARD
BEGIN:DAYLIGHT
TZOFFSETFROM:+0000
TZOFFSETTO:+0100
TZNAME:BST
DTSTART:20260329T010000
END:DAYLIGHT
BEGIN:STANDARD
TZOFFSETFROM:+0100
TZOFFSETTO:+0000
TZNAME:GMT
DTSTART:20261025T010000
END:STANDARD
BEGIN:DAYLIGHT
TZOFFSETFROM:+0000
TZOFFSETTO:+0100
TZNAME:BST
DTSTART:20270328T010000
END:DAYLIGHT
BEGIN:STANDARD
TZOFFSETFROM:+0100
TZOFFSETTO:+0000
TZNAME:GMT
DTSTART:20271031T010000
END:STANDARD
END:VTIMEZONE
BEGIN:VEVENT
DTSTART;VALUE=DATE:20260510
DTEND;VALUE=DATE:20260511
DTSTAMP:20260422T095231
CREATED:20260416T102916Z
LAST-MODIFIED:20260416T103532Z
UID:10018871-1778371200-1778457599@nandschurch.org.uk
SUMMARY:Christian Aid Week
DESCRIPTION:This is the week when we focus on the work of our partner\, Christian Aid\, and raise funds for their valuable work.  Read more about this year’s campaign.
URL:https://nandschurch.org.uk/event/christian-aid-week/2026-05-10/
LOCATION:Netherlee and Stamperland Parish Church\, 130 Ormonde Avenue\, Glasgow\, G44 3SL\, United Kingdom
ATTACH;FMTTYPE=image/webp:https://nandschurch.org.uk/wp-content/uploads/2025/05/Christian_Aid_Logo_wide-crop.webp
END:VEVENT
BEGIN:VEVENT
DTSTART;VALUE=DATE:20260511
DTEND;VALUE=DATE:20260512
DTSTAMP:20260422T095231
CREATED:20260416T102916Z
LAST-MODIFIED:20260416T103532Z
UID:10018872-1778457600-1778543999@nandschurch.org.uk
SUMMARY:Christian Aid Week
DESCRIPTION:This is the week when we focus on the work of our partner\, Christian Aid\, and raise funds for their valuable work.  Read more about this year’s campaign.
URL:https://nandschurch.org.uk/event/christian-aid-week/2026-05-11/
LOCATION:Netherlee and Stamperland Parish Church\, 130 Ormonde Avenue\, Glasgow\, G44 3SL\, United Kingdom
ATTACH;FMTTYPE=image/webp:https://nandschurch.org.uk/wp-content/uploads/2025/05/Christian_Aid_Logo_wide-crop.webp
END:VEVENT
BEGIN:VEVENT
DTSTART;VALUE=DATE:20260512
DTEND;VALUE=DATE:20260513
DTSTAMP:20260422T095231
CREATED:20260416T102916Z
LAST-MODIFIED:20260416T103532Z
UID:10018873-1778544000-1778630399@nandschurch.org.uk
SUMMARY:Christian Aid Week
DESCRIPTION:This is the week when we focus on the work of our partner\, Christian Aid\, and raise funds for their valuable work.  Read more about this year’s campaign.
URL:https://nandschurch.org.uk/event/christian-aid-week/2026-05-12/
LOCATION:Netherlee and Stamperland Parish Church\, 130 Ormonde Avenue\, Glasgow\, G44 3SL\, United Kingdom
ATTACH;FMTTYPE=image/webp:https://nandschurch.org.uk/wp-content/uploads/2025/05/Christian_Aid_Logo_wide-crop.webp
END:VEVENT
BEGIN:VEVENT
DTSTART;VALUE=DATE:20260513
DTEND;VALUE=DATE:20260514
DTSTAMP:20260422T095231
CREATED:20260416T102916Z
LAST-MODIFIED:20260416T103532Z
UID:10018874-1778630400-1778716799@nandschurch.org.uk
SUMMARY:Christian Aid Week
DESCRIPTION:This is the week when we focus on the work of our partner\, Christian Aid\, and raise funds for their valuable work.  Read more about this year’s campaign.
URL:https://nandschurch.org.uk/event/christian-aid-week/2026-05-13/
LOCATION:Netherlee and Stamperland Parish Church\, 130 Ormonde Avenue\, Glasgow\, G44 3SL\, United Kingdom
ATTACH;FMTTYPE=image/webp:https://nandschurch.org.uk/wp-content/uploads/2025/05/Christian_Aid_Logo_wide-crop.webp
END:VEVENT
BEGIN:VEVENT
DTSTART;VALUE=DATE:20260514
DTEND;VALUE=DATE:20260515
DTSTAMP:20260422T095231
CREATED:20260416T102916Z
LAST-MODIFIED:20260416T103532Z
UID:10018875-1778716800-1778803199@nandschurch.org.uk
SUMMARY:Christian Aid Week
DESCRIPTION:This is the week when we focus on the work of our partner\, Christian Aid\, and raise funds for their valuable work.  Read more about this year’s campaign.
URL:https://nandschurch.org.uk/event/christian-aid-week/2026-05-14/
LOCATION:Netherlee and Stamperland Parish Church\, 130 Ormonde Avenue\, Glasgow\, G44 3SL\, United Kingdom
ATTACH;FMTTYPE=image/webp:https://nandschurch.org.uk/wp-content/uploads/2025/05/Christian_Aid_Logo_wide-crop.webp
END:VEVENT
BEGIN:VEVENT
DTSTART;VALUE=DATE:20260515
DTEND;VALUE=DATE:20260516
DTSTAMP:20260422T095231
CREATED:20260416T102916Z
LAST-MODIFIED:20260416T103532Z
UID:10018876-1778803200-1778889599@nandschurch.org.uk
SUMMARY:Christian Aid Week
DESCRIPTION:This is the week when we focus on the work of our partner\, Christian Aid\, and raise funds for their valuable work.  Read more about this year’s campaign.
URL:https://nandschurch.org.uk/event/christian-aid-week/2026-05-15/
LOCATION:Netherlee and Stamperland Parish Church\, 130 Ormonde Avenue\, Glasgow\, G44 3SL\, United Kingdom
ATTACH;FMTTYPE=image/webp:https://nandschurch.org.uk/wp-content/uploads/2025/05/Christian_Aid_Logo_wide-crop.webp
END:VEVENT
BEGIN:VEVENT
DTSTART;VALUE=DATE:20260516
DTEND;VALUE=DATE:20260517
DTSTAMP:20260422T095231
CREATED:20260416T102916Z
LAST-MODIFIED:20260416T103532Z
UID:10018877-1778889600-1778975999@nandschurch.org.uk
SUMMARY:Christian Aid Week
DESCRIPTION:This is the week when we focus on the work of our partner\, Christian Aid\, and raise funds for their valuable work.  Read more about this year’s campaign.
URL:https://nandschurch.org.uk/event/christian-aid-week/2026-05-16/
LOCATION:Netherlee and Stamperland Parish Church\, 130 Ormonde Avenue\, Glasgow\, G44 3SL\, United Kingdom
ATTACH;FMTTYPE=image/webp:https://nandschurch.org.uk/wp-content/uploads/2025/05/Christian_Aid_Logo_wide-crop.webp
END:VEVENT
BEGIN:VEVENT
DTSTART;VALUE=DATE:20260517
DTEND;VALUE=DATE:20260518
DTSTAMP:20260422T095231
CREATED:20260416T102916Z
LAST-MODIFIED:20260416T103532Z
UID:10018878-1778976000-1779062399@nandschurch.org.uk
SUMMARY:Christian Aid Week
DESCRIPTION:This is the week when we focus on the work of our partner\, Christian Aid\, and raise funds for their valuable work.  Read more about this year’s campaign.
URL:https://nandschurch.org.uk/event/christian-aid-week/2026-05-17/
LOCATION:Netherlee and Stamperland Parish Church\, 130 Ormonde Avenue\, Glasgow\, G44 3SL\, United Kingdom
ATTACH;FMTTYPE=image/webp:https://nandschurch.org.uk/wp-content/uploads/2025/05/Christian_Aid_Logo_wide-crop.webp
END:VEVENT
END:VCALENDAR